Workbook

Sheet Model 78-21
A1: PFF model: every win and loss, Weeks 1-4 (2026)
A2: The model's record: graded at Hard Rock's own line and price (its last line before kickoff), -130 or better. Lanes A, M and Over need 2 of 3 sites (FTN, Sleeper, FantasyPros) on our side of Hard Rock's line; the QB lane has no site filter.
A3: Record | B3: =COUNTIF($M$6:$M$104,"W")&"-"&COUNTIF($M$6:$M$104,"L") -> 78-21 | C3: =COUNTIF($M$6:$M$104,"W")/(COUNTIF($M$6:$M$104,"W")+COUNTIF($M$6:$M$104,"L")) -> 0.78787879 | D3: =SUM($N$6:$N$104) -> 49.310388 | E3: =D3/COUNT($N$6:$N$104) -> 0.49808473
A4: Units = 1 unit staked per bet at the price shown (a win at -115 = +0.87). Source: the Weeks 1-4 lane ledger (PFF board, BettingPros Hard Rock archive, box scores). Result and Units are formulas.
A5: Week | B5: Lane | C5: Group | D5: Cohort | E5: Player | F5: Pos | G5: Team | H5: Bet | I5: Side | J5: Line | K5: Price | L5: Actual | M5: Result | N5: Units
A6: 1 | B6: Lane M | C6: RB/TE receiving unders | D6: RB rec yds unders | E6: Aaron Jones | F6: RB | G6: MIN | H6: Under 14.5 rec yds | I6: Under | J6: 14.5 | K6: -115 | L6: 0 | M6: =IF(L6="","",IF(L6=J6,"Push",IF(I6="Under",IF(L6<J6,"W","L"),IF(L6>J6,"W","L")))) -> W | N6: =IF(M6="W",IF(K6<0,100/ABS(K6),K6/100),IF(M6="L",-1,0)) -> 0.86956522
A7: 1 | B7: Lane M | C7: RB/TE receiving unders | D7: RB receptions unders | E7: Aaron Jones | F7: RB | G7: MIN | H7: Under 2.5 receptions | I7: Under | J7: 2.5 | K7: -110 | L7: 0 | M7: =IF(L7="","",IF(L7=J7,"Push",IF(I7="Under",IF(L7<J7,"W","L"),IF(L7>J7,"W","L")))) -> W | N7: =IF(M7="W",IF(K7<0,100/ABS(K7),K7/100),IF(M7="L",-1,0)) -> 0.90909091
A8: 1 | B8: Lane A | C8: RB/TE receiving unders | D8: RB rec yds unders | E8: George Holani | F8: RB | G8: SEA | H8: Under 10.5 rec yds | I8: Under | J8: 10.5 | K8: -110 | L8: 0 | M8: =IF(L8="","",IF(L8=J8,"Push",IF(I8="Under",IF(L8<J8,"W","L"),IF(L8>J8,"W","L")))) -> W | N8: =IF(M8="W",IF(K8<0,100/ABS(K8),K8/100),IF(M8="L",-1,0)) -> 0.90909091
A9: 1 | B9: Lane M | C9: RB/TE receiving unders | D9: RB receptions unders | E9: George Holani | F9: RB | G9: SEA | H9: Under 1.5 receptions | I9: Under | J9: 1.5 | K9: 120 | L9: 0 | M9: =IF(L9="","",IF(L9=J9,"Push",IF(I9="Under",IF(L9<J9,"W","L"),IF(L9>J9,"W","L")))) -> W | N9: =IF(M9="W",IF(K9<0,100/ABS(K9),K9/100),IF(M9="L",-1,0)) -> 1.2
A10: 1 | B10: Lane M | C10: RB/TE receiving unders | D10: RB rec yds unders | E10: James Cook | F10: RB | G10: BUF | H10: Under 19.5 rec yds | I10: Under | J10: 19.5 | K10: -115 | L10: 12 | M10: =IF(L10="","",IF(L10=J10,"Push",IF(I10="Under",IF(L10<J10,"W","L"),IF(L10>J10,"W","L")))) -> W | N10: =IF(M10="W",IF(K10<0,100/ABS(K10),K10/100),IF(M10="L",-1,0)) -> 0.86956522
A11: 1 | B11: Lane A | C11: RB/TE receiving unders | D11: RB rec yds unders | E11: Rachaad White | F11: RB | G11: WAS | H11: Under 14.5 rec yds | I11: Under | J11: 14.5 | K11: -110 | L11: 5 | M11: =IF(L11="","",IF(L11=J11,"Push",IF(I11="Under",IF(L11<J11,"W","L"),IF(L11>J11,"W","L")))) -> W | N11: =IF(M11="W",IF(K11<0,100/ABS(K11),K11/100),IF(M11="L",-1,0)) -> 0.90909091
A12: 1 | B12: Lane A | C12: RB/TE receiving unders | D12: TE rec yds unders | E12: Tyler Higbee | F12: TE | G12: LAR | H12: Under 16.5 rec yds | I12: Under | J12: 16.5 | K12: -115 | L12: 12 | M12: =IF(L12="","",IF(L12=J12,"Push",IF(I12="Under",IF(L12<J12,"W","L"),IF(L12>J12,"W","L")))) -> W | N12: =IF(M12="W",IF(K12<0,100/ABS(K12),K12/100),IF(M12="L",-1,0)) -> 0.86956522
A13: 1 | B13: Lane M | C13: RB/TE receiving unders | D13: RB receptions unders | E13: Woody Marks | F13: RB | G13: HOU | H13: Under 1.5 receptions | I13: Under | J13: 1.5 | K13: -120 | L13: 1 | M13: =IF(L13="","",IF(L13=J13,"Push",IF(I13="Under",IF(L13<J13,"W","L"),IF(L13>J13,"W","L")))) -> W | N13: =IF(M13="W",IF(K13<0,100/ABS(K13),K13/100),IF(M13="L",-1,0)) -> 0.83333333
A14: 1 | B14: Lane A | C14: Rushing yards unders | D14: WR rush yds unders | E14: Deebo Samuel | F14: WR | G14: SF | H14: Under 7.5 rush yds | I14: Under | J14: 7.5 | K14: -120 | L14: 12 | M14: =IF(L14="","",IF(L14=J14,"Push",IF(I14="Under",IF(L14<J14,"W","L"),IF(L14>J14,"W","L")))) -> L | N14: =IF(M14="W",IF(K14<0,100/ABS(K14),K14/100),IF(M14="L",-1,0)) -> -1
A15: 1 | B15: Over lane | C15: WR/TE receiving overs | D15: WR rec yds overs | E15: Alec Pierce | F15: WR | G15: IND | H15: Over 29.5 rec yds | I15: Over | J15: 29.5 | K15: -115 | L15: 61 | M15: =IF(L15="","",IF(L15=J15,"Push",IF(I15="Under",IF(L15<J15,"W","L"),IF(L15>J15,"W","L")))) -> W | N15: =IF(M15="W",IF(K15<0,100/ABS(K15),K15/100),IF(M15="L",-1,0)) -> 0.86956522
A16: 1 | B16: Over lane | C16: WR/TE receiving overs | D16: WR receptions overs | E16: Alec Pierce | F16: WR | G16: IND | H16: Over 2.5 receptions | I16: Over | J16: 2.5 | K16: 110 | L16: 4 | M16: =IF(L16="","",IF(L16=J16,"Push",IF(I16="Under",IF(L16<J16,"W","L"),IF(L16>J16,"W","L")))) -> W | N16: =IF(M16="W",IF(K16<0,100/ABS(K16),K16/100),IF(M16="L",-1,0)) -> 1.1
A17: 1 | B17: Over lane | C17: WR/TE receiving overs | D17: TE receptions overs | E17: George Kittle | F17: TE | G17: SF | H17: Over 3.5 receptions | I17: Over | J17: 3.5 | K17: 105 | L17: 2 | M17: =IF(L17="","",IF(L17=J17,"Push",IF(I17="Under",IF(L17<J17,"W","L"),IF(L17>J17,"W","L")))) -> L | N17: =IF(M17="W",IF(K17<0,100/ABS(K17),K17/100),IF(M17="L",-1,0)) -> -1
... A104: 4 | B104: QB lane | C104: QB rush attempt unders | D104: QB rush att unders | E104: Trevor Lawrence | F104: QB | G104: JAX | H104: Under 3.5 rush att | I104: Under | J104: 3.5 | K104: -115 | L104: 3 | M104: =IF(L104="","",IF(L104=J104,"Push",IF(I104="Under",IF(L104<J104,"W","L"),IF(L104>J104,"W","L")))) -> W | N104: =IF(M104="W",IF(K104<0,100/ABS(K104),K104/100),IF(M104="L",-1,0)) -> 0.86956522

Sheet Cohorts
A1: Model 78-21 by cohort (Weeks 1-4, Hard Rock line and price)
A2: Every number is a formula on the 'Model 78-21' tab. Win % = wins / (wins + losses). ROI = units / bets (1 unit a bet).
A4: By group
A5: Cohort | B5: Bets | C5: Won | D5: Lost | E5: Win % | F5: Units | G5: ROI
A6: RB/TE receiving unders | B6: =C6+D6 -> 28 | C6: =COUNTIFS('Model 78-21'!$C$6:$C$104,$A6,'Model 78-21'!$M$6:$M$104,"W") -> 25 | D6: =COUNTIFS('Model 78-21'!$C$6:$C$104,$A6,'Model 78-21'!$M$6:$M$104,"L") -> 3 | E6: =IF(B6=0,"",C6/B6) -> 0.89285714 | F6: =SUMIFS('Model 78-21'!$N$6:$N$104,'Model 78-21'!$C$6:$C$104,$A6) -> 19.394485 | G6: =IF(B6=0,"",F6/B6) -> 0.69266019
A7: Rushing yards unders | B7: =C7+D7 -> 12 | C7: =COUNTIFS('Model 78-21'!$C$6:$C$104,$A7,'Model 78-21'!$M$6:$M$104,"W") -> 10 | D7: =COUNTIFS('Model 78-21'!$C$6:$C$104,$A7,'Model 78-21'!$M$6:$M$104,"L") -> 2 | E7: =IF(B7=0,"",C7/B7) -> 0.83333333 | F7: =SUMIFS('Model 78-21'!$N$6:$N$104,'Model 78-21'!$C$6:$C$104,$A7) -> 6.6660079 | G7: =IF(B7=0,"",F7/B7) -> 0.55550066
A8: WR/TE receiving overs | B8: =C8+D8 -> 33 | C8: =COUNTIFS('Model 78-21'!$C$6:$C$104,$A8,'Model 78-21'!$M$6:$M$104,"W") -> 26 | D8: =COUNTIFS('Model 78-21'!$C$6:$C$104,$A8,'Model 78-21'!$M$6:$M$104,"L") -> 7 | E8: =IF(B8=0,"",C8/B8) -> 0.78787879 | F8: =SUMIFS('Model 78-21'!$N$6:$N$104,'Model 78-21'!$C$6:$C$104,$A8) -> 17.013462 | G8: =IF(B8=0,"",F8/B8) -> 0.51555945
A9: QB rush attempt unders | B9: =C9+D9 -> 26 | C9: =COUNTIFS('Model 78-21'!$C$6:$C$104,$A9,'Model 78-21'!$M$6:$M$104,"W") -> 17 | D9: =COUNTIFS('Model 78-21'!$C$6:$C$104,$A9,'Model 78-21'!$M$6:$M$104,"L") -> 9 | E9: =IF(B9=0,"",C9/B9) -> 0.65384615 | F9: =SUMIFS('Model 78-21'!$N$6:$N$104,'Model 78-21'!$C$6:$C$104,$A9) -> 6.2364331 | G9: =IF(B9=0,"",F9/B9) -> 0.23986281
A11: By cohort
A12: Cohort | B12: Bets | C12: Won | D12: Lost | E12: Win % | F12: Units | G12: ROI
A13: RB receptions unders | B13: =C13+D13 -> 8 | C13: =COUNTIFS('Model 78-21'!$D$6:$D$104,$A13,'Model 78-21'!$M$6:$M$104,"W") -> 7 | D13: =COUNTIFS('Model 78-21'!$D$6:$D$104,$A13,'Model 78-21'!$M$6:$M$104,"L") -> 1 | E13: =IF(B13=0,"",C13/B13) -> 0.875 | F13: =SUMIFS('Model 78-21'!$N$6:$N$104,'Model 78-21'!$D$6:$D$104,$A13) -> 5.4372294 | G13: =IF(B13=0,"",F13/B13) -> 0.67965368
A14: RB rec yds unders | B14: =C14+D14 -> 13 | C14: =COUNTIFS('Model 78-21'!$D$6:$D$104,$A14,'Model 78-21'!$M$6:$M$104,"W") -> 11 | D14: =COUNTIFS('Model 78-21'!$D$6:$D$104,$A14,'Model 78-21'!$M$6:$M$104,"L") -> 2 | E14: =IF(B14=0,"",C14/B14) -> 0.84615385 | F14: =SUMIFS('Model 78-21'!$N$6:$N$104,'Model 78-21'!$D$6:$D$104,$A14) -> 7.8061359 | G14: =IF(B14=0,"",F14/B14) -> 0.60047199
A15: TE receptions unders | B15: =C15+D15 -> 3 | C15: =COUNTIFS('Model 78-21'!$D$6:$D$104,$A15,'Model 78-21'!$M$6:$M$104,"W") -> 3 | D15: =COUNTIFS('Model 78-21'!$D$6:$D$104,$A15,'Model 78-21'!$M$6:$M$104,"L") -> 0 | E15: =IF(B15=0,"",C15/B15) -> 1 | F15: =SUMIFS('Model 78-21'!$N$6:$N$104,'Model 78-21'!$D$6:$D$104,$A15) -> 2.6695652 | G15: =IF(B15=0,"",F15/B15) -> 0.88985507
A16: TE rec yds unders | B16: =C16+D16 -> 4 | C16: =COUNTIFS('Model 78-21'!$D$6:$D$104,$A16,'Model 78-21'!$M$6:$M$104,"W") -> 4 | D16: =COUNTIFS('Model 78-21'!$D$6:$D$104,$A16,'Model 78-21'!$M$6:$M$104,"L") -> 0 | E16: =IF(B16=0,"",C16/B16) -> 1 | F16: =SUMIFS('Model 78-21'!$N$6:$N$104,'Model 78-21'!$D$6:$D$104,$A16) -> 3.4815547 | G16: =IF(B16=0,"",F16/B16) -> 0.87038867
A17: RB rush yds unders | B17: =C17+D17 -> 7 | C17: =COUNTIFS('Model 78-21'!$D$6:$D$104,$A17,'Model 78-21'!$M$6:$M$104,"W") -> 6 | D17: =COUNTIFS('Model 78-21'!$D$6:$D$104,$A17,'Model 78-21'!$M$6:$M$104,"L") -> 1 | E17: =IF(B17=0,"",C17/B17) -> 0.85714286 | F17: =SUMIFS('Model 78-21'!$N$6:$N$104,'Model 78-21'!$D$6:$D$104,$A17) -> 4.2206851 | G17: =IF(B17=0,"",F17/B17) -> 0.60295502
A18: WR rush yds unders | B18: =C18+D18 -> 5 | C18: =COUNTIFS('Model 78-21'!$D$6:$D$104,$A18,'Model 78-21'!$M$6:$M$104,"W") -> 4 | D18: =COUNTIFS('Model 78-21'!$D$6:$D$104,$A18,'Model 78-21'!$M$6:$M$104,"L") -> 1 | E18: =IF(B18=0,"",C18/B18) -> 0.8 | F18: =SUMIFS('Model 78-21'!$N$6:$N$104,'Model 78-21'!$D$6:$D$104,$A18) -> 2.4453228 | G18: =IF(B18=0,"",F18/B18) -> 0.48906456
A19: WR receptions overs | B19: =C19+D19 -> 14 | C19: =COUNTIFS('Model 78-21'!$D$6:$D$104,$A19,'Model 78-21'!$M$6:$M$104,"W") -> 11 | D19: =COUNTIFS('Model 78-21'!$D$6:$D$104,$A19,'Model 78-21'!$M$6:$M$104,"L") -> 3 | E19: =IF(B19=0,"",C19/B19) -> 0.78571429 | F19: =SUMIFS('Model 78-21'!$N$6:$N$104,'Model 78-21'!$D$6:$D$104,$A19) -> 7.4349332 | G19: =IF(B19=0,"",F19/B19) -> 0.53106666
A20: WR rec yds overs | B20: =C20+D20 -> 5 | C20: =COUNTIFS('Model 78-21'!$D$6:$D$104,$A20,'Model 78-21'!$M$6:$M$104,"W") -> 4 | D20: =COUNTIFS('Model 78-21'!$D$6:$D$104,$A20,'Model 78-21'!$M$6:$M$104,"L") -> 1 | E20: =IF(B20=0,"",C20/B20) -> 0.8 | F20: =SUMIFS('Model 78-21'!$N$6:$N$104,'Model 78-21'!$D$6:$D$104,$A20) -> 2.442029 | G20: =IF(B20=0,"",F20/B20) -> 0.4884058
A21: TE receptions overs | B21: =C21+D21 -> 11 | C21: =COUNTIFS('Model 78-21'!$D$6:$D$104,$A21,'Model 78-21'!$M$6:$M$104,"W") -> 8 | D21: =COUNTIFS('Model 78-21'!$D$6:$D$104,$A21,'Model 78-21'!$M$6:$M$104,"L") -> 3 | E21: =IF(B21=0,"",C21/B21) -> 0.72727273 | F21: =SUMIFS('Model 78-21'!$N$6:$N$104,'Model 78-21'!$D$6:$D$104,$A21) -> 4.564036 | G21: =IF(B21=0,"",F21/B21) -> 0.41491236
A22: TE rec yds overs | B22: =C22+D22 -> 3 | C22: =COUNTIFS('Model 78-21'!$D$6:$D$104,$A22,'Model 78-21'!$M$6:$M$104,"W") -> 3 | D22: =COUNTIFS('Model 78-21'!$D$6:$D$104,$A22,'Model 78-21'!$M$6:$M$104,"L") -> 0 | E22: =IF(B22=0,"",C22/B22) -> 1 | F22: =SUMIFS('Model 78-21'!$N$6:$N$104,'Model 78-21'!$D$6:$D$104,$A22) -> 2.5724638 | G22: =IF(B22=0,"",F22/B22) -> 0.85748792
A23: QB rush att unders | B23: =C23+D23 -> 26 | C23: =COUNTIFS('Model 78-21'!$D$6:$D$104,$A23,'Model 78-21'!$M$6:$M$104,"W") -> 17 | D23: =COUNTIFS('Model 78-21'!$D$6:$D$104,$A23,'Model 78-21'!$M$6:$M$104,"L") -> 9 | E23: =IF(B23=0,"",C23/B23) -> 0.65384615 | F23: =SUMIFS('Model 78-21'!$N$6:$N$104,'Model 78-21'!$D$6:$D$104,$A23) -> 6.2364331 | G23: =IF(B23=0,"",F23/B23) -> 0.23986281
A25: By lane
A26: Cohort | B26: Bets | C26: Won | D26: Lost | E26: Win % | F26: Units | G26: ROI
A27: Lane A | B27: =C27+D27 -> 25 | C27: =COUNTIFS('Model 78-21'!$B$6:$B$104,$A27,'Model 78-21'!$M$6:$M$104,"W") -> 23 | D27: =COUNTIFS('Model 78-21'!$B$6:$B$104,$A27,'Model 78-21'!$M$6:$M$104,"L") -> 2 | E27: =IF(B27=0,"",C27/B27) -> 0.92 | F27: =SUMIFS('Model 78-21'!$N$6:$N$104,'Model 78-21'!$B$6:$B$104,$A27) -> 18.195916 | G27: =IF(B27=0,"",F27/B27) -> 0.72783663
A28: Lane M | B28: =C28+D28 -> 15 | C28: =COUNTIFS('Model 78-21'!$B$6:$B$104,$A28,'Model 78-21'!$M$6:$M$104,"W") -> 12 | D28: =COUNTIFS('Model 78-21'!$B$6:$B$104,$A28,'Model 78-21'!$M$6:$M$104,"L") -> 3 | E28: =IF(B28=0,"",C28/B28) -> 0.8 | F28: =SUMIFS('Model 78-21'!$N$6:$N$104,'Model 78-21'!$B$6:$B$104,$A28) -> 7.8645775 | G28: =IF(B28=0,"",F28/B28) -> 0.52430516
A29: Over lane | B29: =C29+D29 -> 33 | C29: =COUNTIFS('Model 78-21'!$B$6:$B$104,$A29,'Model 78-21'!$M$6:$M$104,"W") -> 26 | D29: =COUNTIFS('Model 78-21'!$B$6:$B$104,$A29,'Model 78-21'!$M$6:$M$104,"L") -> 7 | E29: =IF(B29=0,"",C29/B29) -> 0.78787879 | F29: =SUMIFS('Model 78-21'!$N$6:$N$104,'Model 78-21'!$B$6:$B$104,$A29) -> 17.013462 | G29: =IF(B29=0,"",F29/B29) -> 0.51555945
A30: QB lane | B30: =C30+D30 -> 26 | C30: =COUNTIFS('Model 78-21'!$B$6:$B$104,$A30,'Model 78-21'!$M$6:$M$104,"W") -> 17 | D30: =COUNTIFS('Model 78-21'!$B$6:$B$104,$A30,'Model 78-21'!$M$6:$M$104,"L") -> 9 | E30: =IF(B30=0,"",C30/B30) -> 0.65384615 | F30: =SUMIFS('Model 78-21'!$N$6:$N$104,'Model 78-21'!$B$6:$B$104,$A30) -> 6.2364331 | G30: =IF(B30=0,"",F30/B30) -> 0.23986281
A32: By week
A33: Week | B33: Bets | C33: Won | D33: Lost | E33: Win % | F33: Units | G33: ROI
A34: 1 | B34: =C34+D34 -> 33 | C34: =COUNTIFS('Model 78-21'!$A$6:$A$104,$A34,'Model 78-21'!$M$6:$M$104,"W") -> 26 | D34: =COUNTIFS('Model 78-21'!$A$6:$A$104,$A34,'Model 78-21'!$M$6:$M$104,"L") -> 7 | E34: =IF(B34=0,"",C34/B34) -> 0.78787879 | F34: =SUMIFS('Model 78-21'!$N$6:$N$104,'Model 78-21'!$A$6:$A$104,$A34) -> 16.604291 | G34: =IF(B34=0,"",F34/B34) -> 0.50316032
A35: 2 | B35: =C35+D35 -> 24 | C35: =COUNTIFS('Model 78-21'!$A$6:$A$104,$A35,'Model 78-21'!$M$6:$M$104,"W") -> 17 | D35: =COUNTIFS('Model 78-21'!$A$6:$A$104,$A35,'Model 78-21'!$M$6:$M$104,"L") -> 7 | E35: =IF(B35=0,"",C35/B35) -> 0.70833333 | F35: =SUMIFS('Model 78-21'!$N$6:$N$104,'Model 78-21'!$A$6:$A$104,$A35) -> 8.6303313 | G35: =IF(B35=0,"",F35/B35) -> 0.35959714
A36: 3 | B36: =C36+D36 -> 19 | C36: =COUNTIFS('Model 78-21'!$A$6:$A$104,$A36,'Model 78-21'!$M$6:$M$104,"W") -> 17 | D36: =COUNTIFS('Model 78-21'!$A$6:$A$104,$A36,'Model 78-21'!$M$6:$M$104,"L") -> 2 | E36: =IF(B36=0,"",C36/B36) -> 0.89473684 | F36: =SUMIFS('Model 78-21'!$N$6:$N$104,'Model 78-21'!$A$6:$A$104,$A36) -> 13.37148 | G36: =IF(B36=0,"",F36/B36) -> 0.7037621
A37: 4 | B37: =C37+D37 -> 23 | C37: =COUNTIFS('Model 78-21'!$A$6:$A$104,$A37,'Model 78-21'!$M$6:$M$104,"W") -> 18 | D37: =COUNTIFS('Model 78-21'!$A$6:$A$104,$A37,'Model 78-21'!$M$6:$M$104,"L") -> 5 | E37: =IF(B37=0,"",C37/B37) -> 0.7826087 | F37: =SUMIFS('Model 78-21'!$N$6:$N$104,'Model 78-21'!$A$6:$A$104,$A37) -> 10.704286 | G37: =IF(B37=0,"",F37/B37) -> 0.46540375
A39: All bets | B39: =C39+D39 -> 99 | C39: =COUNTIF('Model 78-21'!$M$6:$M$104,"W") -> 78 | D39: =COUNTIF('Model 78-21'!$M$6:$M$104,"L") -> 21 | E39: =C39/B39 -> 0.78787879 | F39: =SUM('Model 78-21'!$N$6:$N$104) -> 49.310388 | G39: =F39/B39 -> 0.49808473
A41: Small samples: several cohorts have fewer than 10 bets, so read the record, not the percent.

Sheet Vote 72-15
A1: The 72-15 cut: same lanes graded at PFF's line (no QB lane)
A2: Lanes A, M and Over with 2 of 3 sites on our side of PFF's line, graded at PFF's line and PFF's best-book price (the 10/7 projection-vote study). Not the betting model: that is the 78-21 tab.
A3: Record | B3: =COUNTIF($M$6:$M$92,"W")&"-"&COUNTIF($M$6:$M$92,"L") -> 72-15 | C3: =COUNTIF($M$6:$M$92,"W")/(COUNTIF($M$6:$M$92,"W")+COUNTIF($M$6:$M$92,"L")) -> 0.82758621 | D3: =SUM($N$6:$N$92) -> 52.368084 | E3: =D3/COUNT($N$6:$N$92) -> 0.601932
A4: Kept for reference because it is the other "72" record in the files.
A5: Week | B5: Lane | C5: Group | D5: Cohort | E5: Player | F5: Pos | G5: Team | H5: Bet | I5: Side | J5: Line | K5: Price | L5: Actual | M5: Result | N5: Units
A6: 1 | B6: Lane M | C6: RB/TE receiving unders | D6: RB rec yds unders | E6: Aaron Jones | F6: RB | G6: MIN | H6: Under 14.5 rec yds | I6: Under | J6: 14.5 | K6: -111 | L6: 0 | M6: =IF(L6="","",IF(L6=J6,"Push",IF(I6="Under",IF(L6<J6,"W","L"),IF(L6>J6,"W","L")))) -> W | N6: =IF(M6="W",IF(K6<0,100/ABS(K6),K6/100),IF(M6="L",-1,0)) -> 0.9009009
A7: 1 | B7: Lane M | C7: RB/TE receiving unders | D7: RB receptions unders | E7: Aaron Jones | F7: RB | G7: MIN | H7: Under 2.5 receptions | I7: Under | J7: 2.5 | K7: -110 | L7: 0 | M7: =IF(L7="","",IF(L7=J7,"Push",IF(I7="Under",IF(L7<J7,"W","L"),IF(L7>J7,"W","L")))) -> W | N7: =IF(M7="W",IF(K7<0,100/ABS(K7),K7/100),IF(M7="L",-1,0)) -> 0.90909091
A8: 1 | B8: Lane A | C8: RB/TE receiving unders | D8: RB rec yds unders | E8: Breece Hall | F8: RB | G8: NYJ | H8: Under 23.5 rec yds | I8: Under | J8: 23.5 | K8: -114 | L8: 16 | M8: =IF(L8="","",IF(L8=J8,"Push",IF(I8="Under",IF(L8<J8,"W","L"),IF(L8>J8,"W","L")))) -> W | N8: =IF(M8="W",IF(K8<0,100/ABS(K8),K8/100),IF(M8="L",-1,0)) -> 0.87719298
A9: 1 | B9: Lane A | C9: RB/TE receiving unders | D9: RB rec yds unders | E9: George Holani | F9: RB | G9: SEA | H9: Under 11.5 rec yds | I9: Under | J9: 11.5 | K9: -111 | L9: 0 | M9: =IF(L9="","",IF(L9=J9,"Push",IF(I9="Under",IF(L9<J9,"W","L"),IF(L9>J9,"W","L")))) -> W | N9: =IF(M9="W",IF(K9<0,100/ABS(K9),K9/100),IF(M9="L",-1,0)) -> 0.9009009
A10: 1 | B10: Lane M | C10: RB/TE receiving unders | D10: RB receptions unders | E10: George Holani | F10: RB | G10: SEA | H10: Under 1.5 receptions | I10: Under | J10: 1.5 | K10: 125 | L10: 0 | M10: =IF(L10="","",IF(L10=J10,"Push",IF(I10="Under",IF(L10<J10,"W","L"),IF(L10>J10,"W","L")))) -> W | N10: =IF(M10="W",IF(K10<0,100/ABS(K10),K10/100),IF(M10="L",-1,0)) -> 1.25
A11: 1 | B11: Lane M | C11: RB/TE receiving unders | D11: RB rec yds unders | E11: James Cook | F11: RB | G11: BUF | H11: Under 19.5 rec yds | I11: Under | J11: 19.5 | K11: -108 | L11: 12 | M11: =IF(L11="","",IF(L11=J11,"Push",IF(I11="Under",IF(L11<J11,"W","L"),IF(L11>J11,"W","L")))) -> W | N11: =IF(M11="W",IF(K11<0,100/ABS(K11),K11/100),IF(M11="L",-1,0)) -> 0.92592593
A12: 1 | B12: Lane A | C12: RB/TE receiving unders | D12: RB rec yds unders | E12: Rachaad White | F12: RB | G12: WAS | H12: Under 15.5 rec yds | I12: Under | J12: 15.5 | K12: -116 | L12: 5 | M12: =IF(L12="","",IF(L12=J12,"Push",IF(I12="Under",IF(L12<J12,"W","L"),IF(L12>J12,"W","L")))) -> W | N12: =IF(M12="W",IF(K12<0,100/ABS(K12),K12/100),IF(M12="L",-1,0)) -> 0.86206897
A13: 1 | B13: Lane A | C13: RB/TE receiving unders | D13: TE rec yds unders | E13: Tyler Higbee | F13: TE | G13: LAR | H13: Under 16.5 rec yds | I13: Under | J13: 16.5 | K13: -113 | L13: 12 | M13: =IF(L13="","",IF(L13=J13,"Push",IF(I13="Under",IF(L13<J13,"W","L"),IF(L13>J13,"W","L")))) -> W | N13: =IF(M13="W",IF(K13<0,100/ABS(K13),K13/100),IF(M13="L",-1,0)) -> 0.88495575
A14: 1 | B14: Lane A | C14: RB/TE receiving unders | D14: RB rec yds unders | E14: Tyrone Tracy | F14: RB | G14: NYG | H14: Under 11.5 rec yds | I14: Under | J14: 11.5 | K14: -105 | L14: 0 | M14: =IF(L14="","",IF(L14=J14,"Push",IF(I14="Under",IF(L14<J14,"W","L"),IF(L14>J14,"W","L")))) -> W | N14: =IF(M14="W",IF(K14<0,100/ABS(K14),K14/100),IF(M14="L",-1,0)) -> 0.95238095
A15: 1 | B15: Lane A | C15: RB/TE receiving unders | D15: RB receptions unders | E15: Tyrone Tracy | F15: RB | G15: NYG | H15: Under 1.5 receptions | I15: Under | J15: 1.5 | K15: 130 | L15: 0 | M15: =IF(L15="","",IF(L15=J15,"Push",IF(I15="Under",IF(L15<J15,"W","L"),IF(L15>J15,"W","L")))) -> W | N15: =IF(M15="W",IF(K15<0,100/ABS(K15),K15/100),IF(M15="L",-1,0)) -> 1.3
A16: 1 | B16: Lane M | C16: RB/TE receiving unders | D16: RB receptions unders | E16: Woody Marks | F16: RB | G16: HOU | H16: Under 1.5 receptions | I16: Under | J16: 1.5 | K16: -114 | L16: 1 | M16: =IF(L16="","",IF(L16=J16,"Push",IF(I16="Under",IF(L16<J16,"W","L"),IF(L16>J16,"W","L")))) -> W | N16: =IF(M16="W",IF(K16<0,100/ABS(K16),K16/100),IF(M16="L",-1,0)) -> 0.87719298
A17: 1 | B17: Lane A | C17: Rushing yards unders | D17: RB rush yds unders | E17: Chuba Hubbard | F17: RB | G17: CAR | H17: Under 55.5 rush yds | I17: Under | J17: 55.5 | K17: -125 | L17: 49 | M17: =IF(L17="","",IF(L17=J17,"Push",IF(I17="Under",IF(L17<J17,"W","L"),IF(L17>J17,"W","L")))) -> W | N17: =IF(M17="W",IF(K17<0,100/ABS(K17),K17/100),IF(M17="L",-1,0)) -> 0.8
... A92: 4 | B92: Over lane | C92: WR/TE receiving overs | D92: WR rec yds overs | E92: Zachariah Branch | F92: WR | G92: ATL | H92: Over 10.5 rec yds | I92: Over | J92: 10.5 | K92: 140 | L92: 10 | M92: =IF(L92="","",IF(L92=J92,"Push",IF(I92="Under",IF(L92<J92,"W","L"),IF(L92>J92,"W","L")))) -> L | N92: =IF(M92="W",IF(K92<0,100/ABS(K92),K92/100),IF(M92="L",-1,0)) -> -1
